BEGIN:VCALENDAR
VERSION:2.0
PRODID:Laguna Beach, CA Calendar Creator
METHOD:PUBLISH
BEGIN:VEVENT
DTSTAMP:20251222T103553
DTSTART:20260501T000000
DTEND:20260501T235900
SUMMARY:City Hall Closed
DESCRIPTION:
X-ALT-DESC;FMTTYPE=text/html:
LOCATION:
CLASS:PUBLIC
END:VEVENT
END:VCALENDAR
